BEGIN:VCALENDAR
VERSION:2.0
METHOD:PUBLISH
CALSCALE:GREGORIAN
PRODID:-//Refresh Web Development//Helios Calendar//EN
X-FROM-URL:https://www.bayareascience.org/calendar/index.php?com=details&eID=32166
X-WR-RELCALID:BayAreaScience.org  Dancing Radiation Robot! - Livestream 20220430T100000
X-WR-TIMEZONE:America/New_York
X-WR-CALNAME:BayAreaScience.org
BEGIN:VEVENT
URL;VALUE=URI:https://www.bayareascience.org/calendar/index.php?com=detail&eID=32166
DTSTART:20220430T100000
DTEND:20220430T103000
SUMMARY: Dancing Radiation Robot! - Livestream
DESCRIPTION:In this...\n______________________________\nThis Event Downloaded From a Helios Calendar Powered Site
LOCATION:UC San Francisco Radiation Oncology -  \, \, CA  
CATEGORIES:BayAreaScience.org Events
PRIORITY:0
TRANSP:TRANSPARENT
END:VEVENT
END:VCALENDAR