BEGIN:VCALENDAR
VERSION:2.0
METHOD:PUBLISH
CALSCALE:GREGORIAN
PRODID:-//Refresh Web Development//Helios Calendar//EN
X-FROM-URL:https://www.bayareascience.org/calendar/index.php?com=details&eID=32175
X-WR-RELCALID:BayAreaScience.org  Dive in with DOER 20220430T140000
X-WR-TIMEZONE:America/New_York
X-WR-CALNAME:BayAreaScience.org
BEGIN:VEVENT
URL;VALUE=URI:https://www.bayareascience.org/calendar/index.php?com=detail&eID=32175
DTSTART:20220430T140000
DTEND:20220430T150000
SUMMARY: Dive in with DOER
DESCRIPTION:Visit...\n______________________________\nThis Event Downloaded From a Helios Calendar Powered Site
LOCATION:Dive In with DOER - 650 W Tower Ave \, Alameda\, CA  94501
CATEGORIES:BayAreaScience.org Events
PRIORITY:0
TRANSP:TRANSPARENT
END:VEVENT
END:VCALENDAR