BEGIN:VCALENDAR
VERSION:2.0
METHOD:PUBLISH
CALSCALE:GREGORIAN
PRODID:-//Refresh Web Development//Helios Calendar//EN
X-FROM-URL:https://www.bayareascience.org/calendar/index.php?com=details&eID=32179
X-WR-RELCALID:BayAreaScience.org Nature & History Walk at Cooley Landing 20220423T110000
X-WR-TIMEZONE:America/New_York
X-WR-CALNAME:BayAreaScience.org
BEGIN:VEVENT
URL;VALUE=URI:https://www.bayareascience.org/calendar/index.php?com=detail&eID=32179
DTSTART:20220423T110000
DTEND:20220423T130000
SUMMARY:Nature & History Walk at Cooley Landing
DESCRIPTION:Join Peninsula Open Space Trust for an easy\, guided walk along the Bay Trail starting from Cooley Landing in East Palo Alto!Guests will be guided by a POST ambassador\, who will share about...\n______________________________\nThis Event Downloaded From a Helios Calendar Powered Site
LOCATION:Cooley Landing - 2100 Bay Road Ravenswood Open Space Preserve\, East Palo Alto\, CA  94303
CATEGORIES:BayAreaScience.org Events
PRIORITY:0
TRANSP:TRANSPARENT
END:VEVENT
END:VCALENDAR