BEGIN:VCALENDAR
VERSION:2.0
METHOD:PUBLISH
CALSCALE:GREGORIAN
PRODID:-//Refresh Web Development//Helios Calendar//EN
X-FROM-URL:https://www.bayareascience.org/calendar/index.php?com=details&eID=32186
X-WR-RELCALID:BayAreaScience.org Got Metal? Life and Metals, The Unexpected Connection - Livestream 20220420T100000
X-WR-TIMEZONE:America/New_York
X-WR-CALNAME:BayAreaScience.org
BEGIN:VEVENT
URL;VALUE=URI:https://www.bayareascience.org/calendar/index.php?com=detail&eID=32186
DTSTART:20220420T100000
DTEND:20220420T110000
SUMMARY:Got Metal? Life and Metals\, The Unexpected Connection - Livestream
DESCRIPTION:Single-cell life appears quickly after the formation of our Earth and co-evolve with our planet over the eons. Biologists understand that all life requires trace elements\, many of which are metals\,...\n______________________________\nThis Event Downloaded From a Helios Calendar Powered Site
LOCATION:SETI Institute -  \, \, CA  
CATEGORIES:BayAreaScience.org Events
PRIORITY:0
TRANSP:TRANSPARENT
END:VEVENT
END:VCALENDAR