BEGIN:VCALENDAR
VERSION:2.0
METHOD:PUBLISH
CALSCALE:GREGORIAN
PRODID:-//Refresh Web Development//Helios Calendar//EN
X-FROM-URL:https://www.bayareascience.org/calendar/index.php?com=details&eID=32187
X-WR-RELCALID:BayAreaScience.org  Help Wanted: Scalable Climate Solutions to Feed the Planet and Protect Tropical Forests - Livestream 20220414T160000
X-WR-TIMEZONE:America/New_York
X-WR-CALNAME:BayAreaScience.org
BEGIN:VEVENT
URL;VALUE=URI:https://www.bayareascience.org/calendar/index.php?com=detail&eID=32187
DTSTART:20220414T160000
DTEND:20220414T170000
SUMMARY: Help Wanted: Scalable Climate Solutions to Feed the Planet and Protect Tropical Forests - Livestream
DESCRIPTION:Dr....\n______________________________\nThis Event Downloaded From a Helios Calendar Powered Site
LOCATION:Stanford Energy -  \, \, CA  
CATEGORIES:BayAreaScience.org Events
PRIORITY:0
TRANSP:TRANSPARENT
END:VEVENT
END:VCALENDAR