BEGIN:VCALENDAR
VERSION:2.0
METHOD:PUBLISH
CALSCALE:GREGORIAN
PRODID:-//Refresh Web Development//Helios Calendar//EN
X-FROM-URL:https://www.bayareascience.org/calendar/index.php?com=details&eID=32188
X-WR-RELCALID:BayAreaScience.org  Observing the Upper-Atmosphere with Satellite Stellar Occultation Measurements - Livestream 20220415T193000
X-WR-TIMEZONE:America/New_York
X-WR-CALNAME:BayAreaScience.org
BEGIN:VEVENT
URL;VALUE=URI:https://www.bayareascience.org/calendar/index.php?com=detail&eID=32188
DTSTART:20220415T193000
DTEND:20220415T193000
SUMMARY: Observing the Upper-Atmosphere with Satellite Stellar Occultation Measurements - Livestream
DESCRIPTION:In this talk we will investigate measurements from an orbiting nanosatellite and upcoming measurements from an instrument Lawrence Livermore National Laboratory (LLNL) is adding to the International...\n______________________________\nThis Event Downloaded From a Helios Calendar Powered Site
LOCATION:Tri-Valley Stargazers -  \, \, CA  
CATEGORIES:BayAreaScience.org Events
PRIORITY:0
TRANSP:TRANSPARENT
END:VEVENT
END:VCALENDAR