BEGIN:VCALENDAR
VERSION:2.0
METHOD:PUBLISH
CALSCALE:GREGORIAN
PRODID:-//Refresh Web Development//Helios Calendar//EN
X-FROM-URL:https://www.bayareascience.org/calendar/index.php?com=details&eID=32189
X-WR-RELCALID:BayAreaScience.org After Dark: Discover the Wonder 20220421T180000
X-WR-TIMEZONE:America/New_York
X-WR-CALNAME:BayAreaScience.org
BEGIN:VEVENT
URL;VALUE=URI:https://www.bayareascience.org/calendar/index.php?com=detail&eID=32189
DTSTART:20220421T180000
DTEND:20220421T220000
SUMMARY:After Dark: Discover the Wonder
DESCRIPTION:Spark your curiosity at After Dark! As the Sun sets\, weâ€™ll hit the rainbow lights\, turn the music up\, and open our doors\, inviting you to take your imagination out to play. Be ready to bring...\n______________________________\nThis Event Downloaded From a Helios Calendar Powered Site
LOCATION:ExplOratorium - Pier 15 (Embarcadero at Green Street)  \, San Francisco\, CA USA 94111
CATEGORIES:BayAreaScience.org Events
PRIORITY:0
TRANSP:TRANSPARENT
END:VEVENT
END:VCALENDAR