BEGIN:VCALENDAR
VERSION:2.0
METHOD:PUBLISH
CALSCALE:GREGORIAN
PRODID:-//Refresh Web Development//Helios Calendar//EN
X-FROM-URL:https://www.bayareascience.org/calendar/index.php?com=details&eID=32191
X-WR-RELCALID:BayAreaScience.org Science Denial: Why It Happens And What To Do About It - Livestream 20220414T160000
X-WR-TIMEZONE:America/New_York
X-WR-CALNAME:BayAreaScience.org
BEGIN:VEVENT
URL;VALUE=URI:https://www.bayareascience.org/calendar/index.php?com=detail&eID=32191
DTSTART:20220414T160000
DTEND:20220414T160000
SUMMARY:Science Denial: Why It Happens And What To Do About It - Livestream
DESCRIPTION:How do individuals decide whether to accept human causes of climate change\, vaccinate their children\, or practice social distancing during a pandemic? Understanding key psychological explanations...\n______________________________\nThis Event Downloaded From a Helios Calendar Powered Site
LOCATION:Skeptical Inquirer -  \, \, CA  
CATEGORIES:BayAreaScience.org Events
PRIORITY:0
TRANSP:TRANSPARENT
END:VEVENT
END:VCALENDAR