BEGIN:VCALENDAR
VERSION:2.0
METHOD:PUBLISH
CALSCALE:GREGORIAN
PRODID:-//Refresh Web Development//Helios Calendar//EN
X-FROM-URL:https://www.bayareascience.org/calendar/index.php?com=details&eID=32196
X-WR-RELCALID:BayAreaScience.org Experimental demonstration of continuous quantum error correction - Livestream 20220418T150000
X-WR-TIMEZONE:America/New_York
X-WR-CALNAME:BayAreaScience.org
BEGIN:VEVENT
URL;VALUE=URI:https://www.bayareascience.org/calendar/index.php?com=detail&eID=32196
DTSTART:20220418T150000
DTEND:20220418T153000
SUMMARY:Experimental demonstration of continuous quantum error correction - Livestream
DESCRIPTION:Given the inherent fragility of quantum systems\, quantum error correction (QEC) promises to be a powerful tool in performing quantum computations. QEC traditionally consists of discrete rounds...\n______________________________\nThis Event Downloaded From a Helios Calendar Powered Site
LOCATION:Physics North - UC Berkeley Room 3\, Berkeley\, CA  94720
CATEGORIES:BayAreaScience.org Events
PRIORITY:0
TRANSP:TRANSPARENT
END:VEVENT
END:VCALENDAR