BEGIN:VCALENDAR
VERSION:2.0
METHOD:PUBLISH
CALSCALE:GREGORIAN
PRODID:-//Refresh Web Development//Helios Calendar//EN
X-FROM-URL:https://www.bayareascience.org/calendar/index.php?com=details&eID=32205
X-WR-RELCALID:BayAreaScience.org Mt Tam Astronomy Lectures - Canceled 20220806T193000
X-WR-TIMEZONE:America/New_York
X-WR-CALNAME:BayAreaScience.org
BEGIN:VEVENT
URL;VALUE=URI:https://www.bayareascience.org/calendar/index.php?com=detail&eID=32205
DTSTART:20220806T193000
DTEND:20220806T203000
SUMMARY:Mt Tam Astronomy Lectures - Canceled
DESCRIPTION:Speaker: Andrea Antoni\, UC BerkeleySee weblink for Zoom information\n______________________________\nThis Event Downloaded From a Helios Calendar Powered Site
LOCATION:Mt. Tam Astronomy -  \, \, CA  
CATEGORIES:BayAreaScience.org Events
PRIORITY:0
TRANSP:TRANSPARENT
END:VEVENT
END:VCALENDAR