BEGIN:VCALENDAR
VERSION:2.0
METHOD:PUBLISH
CALSCALE:GREGORIAN
PRODID:-//Refresh Web Development//Helios Calendar//EN
X-FROM-URL:https://www.bayareascience.org/calendar/index.php?com=details&eID=32206
X-WR-RELCALID:BayAreaScience.org There is no Planet B - Livestream 20220903T193000
X-WR-TIMEZONE:America/New_York
X-WR-CALNAME:BayAreaScience.org
BEGIN:VEVENT
URL;VALUE=URI:https://www.bayareascience.org/calendar/index.php?com=detail&eID=32206
DTSTART:20220903T193000
DTEND:20220903T203000
SUMMARY:There is no Planet B - Livestream
DESCRIPTION:We have entered the era of New Space\, when private interests have been given the green light and are finally making headway into the commercialization of the final frontier. It's already past the...\n______________________________\nThis Event Downloaded From a Helios Calendar Powered Site
LOCATION:Mt. Tam Astronomy -  \, \, CA  
CATEGORIES:BayAreaScience.org Events
PRIORITY:0
TRANSP:TRANSPARENT
END:VEVENT
END:VCALENDAR