BEGIN:VCALENDAR
VERSION:2.0
METHOD:PUBLISH
CALSCALE:GREGORIAN
PRODID:-//Refresh Web Development//Helios Calendar//EN
X-FROM-URL:https://www.bayareascience.org/calendar/index.php?com=details&eID=32207
X-WR-RELCALID:BayAreaScience.org An Astronomical Perspective on Globular Clusters, Planet Earth, and the Climate Crisis - Livestream 20221001T193000
X-WR-TIMEZONE:America/New_York
X-WR-CALNAME:BayAreaScience.org
BEGIN:VEVENT
URL;VALUE=URI:https://www.bayareascience.org/calendar/index.php?com=detail&eID=32207
DTSTART:20221001T193000
DTEND:20221001T203000
SUMMARY:An Astronomical Perspective on Globular Clusters\, Planet Earth\, and the Climate Crisis - Livestream
DESCRIPTION:evolution of stars for more than 100 years. I will describe the role that binary stars play in their fascinating internal dynamics and provide examples of how a cluster's binaries can be revealed...\n______________________________\nThis Event Downloaded From a Helios Calendar Powered Site
LOCATION:Mt. Tam Astronomy -  \, \, CA  
CATEGORIES:BayAreaScience.org Events
PRIORITY:0
TRANSP:TRANSPARENT
END:VEVENT
END:VCALENDAR