BEGIN:VCALENDAR
VERSION:2.0
METHOD:PUBLISH
CALSCALE:GREGORIAN
PRODID:-//Refresh Web Development//Helios Calendar//EN
X-FROM-URL:https://www.bayareascience.org/calendar/index.php?com=details&eID=32208
X-WR-RELCALID:BayAreaScience.org  Deep Sea Mining, Coming Soon to an Ocean Near You? 20220427T193000
X-WR-TIMEZONE:America/New_York
X-WR-CALNAME:BayAreaScience.org
BEGIN:VEVENT
URL;VALUE=URI:https://www.bayareascience.org/calendar/index.php?com=detail&eID=32208
DTSTART:20220427T193000
DTEND:20220427T193000
SUMMARY: Deep Sea Mining\, Coming Soon to an Ocean Near You?
DESCRIPTION:Global demand for technologies like cellphones and laptops is increasing every year\, and the transition to green energy is creating a need for more and new batteries. These both result in huge...\n______________________________\nThis Event Downloaded From a Helios Calendar Powered Site
LOCATION:Museum of Art and History - 705 Front St Back Patio\, Santa Cruz\, CA  95060
CATEGORIES:BayAreaScience.org Events
PRIORITY:0
TRANSP:TRANSPARENT
END:VEVENT
END:VCALENDAR