BEGIN:VCALENDAR
VERSION:2.0
METHOD:PUBLISH
CALSCALE:GREGORIAN
PRODID:-//Refresh Web Development//Helios Calendar//EN
X-FROM-URL:https://www.bayareascience.org/calendar/index.php?com=details&eID=32213
X-WR-RELCALID:BayAreaScience.org How to increase IoT data platform performance for edge devices? - Livestream 20220420T120000
X-WR-TIMEZONE:America/New_York
X-WR-CALNAME:BayAreaScience.org
BEGIN:VEVENT
URL;VALUE=URI:https://www.bayareascience.org/calendar/index.php?com=detail&eID=32213
DTSTART:20220420T120000
DTEND:20220420T130000
SUMMARY:How to increase IoT data platform performance for edge devices? - Livestream
DESCRIPTION:As the number of sensors and devices in the Internet of Things (IoT) increases by a CAGR of ~25%\, i.e. doubles every 3 years\, a critical question that arises is how to store\, analyze and take quick...\n______________________________\nThis Event Downloaded From a Helios Calendar Powered Site
LOCATION:IEEE Consumer Technology Society SF Bay Area -  \, \, CA  
CATEGORIES:BayAreaScience.org Events
PRIORITY:0
TRANSP:TRANSPARENT
END:VEVENT
END:VCALENDAR