BEGIN:VCALENDAR
VERSION:2.0
METHOD:PUBLISH
CALSCALE:GREGORIAN
PRODID:-//Refresh Web Development//Helios Calendar//EN
X-FROM-URL:https://www.bayareascience.org/calendar/index.php?com=details&eID=32218
X-WR-RELCALID:BayAreaScience.org  Astrophysics with high energy neutrinos - Livestream 20220419T153000
X-WR-TIMEZONE:America/New_York
X-WR-CALNAME:BayAreaScience.org
BEGIN:VEVENT
URL;VALUE=URI:https://www.bayareascience.org/calendar/index.php?com=detail&eID=32218
DTSTART:20220419T153000
DTEND:20220419T163000
SUMMARY: Astrophysics with high energy neutrinos - Livestream
DESCRIPTION:The IceCube Neutrino Observatory is a detector consisting of a billion tons of ice at the geographic South Pole instrumented with thousands of photomultiplier tubes to detect neutrinos from GeV...\n______________________________\nThis Event Downloaded From a Helios Calendar Powered Site
LOCATION:Stanford Applied Physics/Physics Colloquium -  \, \, CA  
CATEGORIES:BayAreaScience.org Events
PRIORITY:0
TRANSP:TRANSPARENT
END:VEVENT
END:VCALENDAR