BEGIN:VCALENDAR
VERSION:2.0
METHOD:PUBLISH
CALSCALE:GREGORIAN
PRODID:-//Refresh Web Development//Helios Calendar//EN
X-FROM-URL:https://www.bayareascience.org/calendar/index.php?com=details&eID=32245
X-WR-RELCALID:BayAreaScience.org Incorporating watershed storage, hydrologic connectivity, and the natural flow regime into water resource management 20220426T153000
X-WR-TIMEZONE:America/New_York
X-WR-CALNAME:BayAreaScience.org
BEGIN:VEVENT
URL;VALUE=URI:https://www.bayareascience.org/calendar/index.php?com=detail&eID=32245
DTSTART:20220426T153000
DTEND:20220426T153000
SUMMARY:Incorporating watershed storage\, hydrologic connectivity\, and the natural flow regime into water resource management
DESCRIPTION:Managing...\n______________________________\nThis Event Downloaded From a Helios Calendar Powered Site
LOCATION:Natural Science Annex - UC Santa Cruz Room 101\, Santa Cruz\, CA  95064
CATEGORIES:BayAreaScience.org Events
PRIORITY:0
TRANSP:TRANSPARENT
END:VEVENT
END:VCALENDAR