BEGIN:VCALENDAR
VERSION:2.0
METHOD:PUBLISH
CALSCALE:GREGORIAN
PRODID:-//Refresh Web Development//Helios Calendar//EN
X-FROM-URL:https://www.bayareascience.org/calendar/index.php?com=details&eID=32266
X-WR-RELCALID:BayAreaScience.org  Road to a Livable Climate - Bike and Walk for the Planet!  20220605T080000
X-WR-TIMEZONE:America/New_York
X-WR-CALNAME:BayAreaScience.org
BEGIN:VEVENT
URL;VALUE=URI:https://www.bayareascience.org/calendar/index.php?com=detail&eID=32266
DTSTART:20220605T080000
DTEND:20220605T120000
SUMMARY: Road to a Livable Climate - Bike and Walk for the Planet! 
DESCRIPTION:This 3.5 walking loop route features the Napa Flood Control Project and Oxbow Commons\, Fuller park\, green building examples\, tree canopy\, infrastructure...\n______________________________\nThis Event Downloaded From a Helios Calendar Powered Site
LOCATION:Veteran's Memorial Park - 815 Main St \, Napa\, CA USA 94559
CATEGORIES:BayAreaScience.org Events
PRIORITY:0
TRANSP:TRANSPARENT
END:VEVENT
END:VCALENDAR