BEGIN:VCALENDAR
VERSION:2.0
METHOD:PUBLISH
CALSCALE:GREGORIAN
PRODID:-//Refresh Web Development//Helios Calendar//EN
X-FROM-URL:https://www.bayareascience.org/calendar/index.php?com=details&eID=32275
X-WR-RELCALID:BayAreaScience.org  History of Astronomy - Leviathon of Parsontown - Livestream 20220520T193000
X-WR-TIMEZONE:America/New_York
X-WR-CALNAME:BayAreaScience.org
BEGIN:VEVENT
URL;VALUE=URI:https://www.bayareascience.org/calendar/index.php?com=detail&eID=32275
DTSTART:20220520T193000
DTEND:20220520T193000
SUMMARY: History of Astronomy - Leviathon of Parsontown - Livestream
DESCRIPTION:Speaker: Dwight LanpherSee weblink for Zoom instructions\n______________________________\nThis Event Downloaded From a Helios Calendar Powered Site
LOCATION:Tri-Valley Stargazers -  \, \, CA  
CATEGORIES:BayAreaScience.org Events
PRIORITY:0
TRANSP:TRANSPARENT
END:VEVENT
END:VCALENDAR