BEGIN:VCALENDAR
VERSION:2.0
METHOD:PUBLISH
CALSCALE:GREGORIAN
PRODID:-//Refresh Web Development//Helios Calendar//EN
X-FROM-URL:https://www.bayareascience.org/calendar/index.php?com=details&eID=32280
X-WR-RELCALID:BayAreaScience.org From There to Here: My Asian American Journey  20220517T090000
X-WR-TIMEZONE:America/New_York
X-WR-CALNAME:BayAreaScience.org
BEGIN:VEVENT
URL;VALUE=URI:https://www.bayareascience.org/calendar/index.php?com=detail&eID=32280
DTSTART:20220517T090000
DTEND:20220517T100000
SUMMARY:From There to Here: My Asian American Journey 
DESCRIPTION:Join us for a special midday broadcast to celebrate Asian American and Pacific Islander Heritage Month. Weike Wang\, a Chinese American and award-winning author of the novels â€œChemistryâ€...\n______________________________\nThis Event Downloaded From a Helios Calendar Powered Site
LOCATION:California Section American Chemical Society -  \, \, CA  
CATEGORIES:BayAreaScience.org Events
PRIORITY:0
TRANSP:TRANSPARENT
END:VEVENT
END:VCALENDAR