BEGIN:VCALENDAR
VERSION:2.0
METHOD:PUBLISH
CALSCALE:GREGORIAN
PRODID:-//Refresh Web Development//Helios Calendar//EN
X-FROM-URL:https://www.bayareascience.org/calendar/index.php?com=details&eID=32284
X-WR-RELCALID:BayAreaScience.org How to Make a Star  20220518T180000
X-WR-TIMEZONE:America/New_York
X-WR-CALNAME:BayAreaScience.org
BEGIN:VEVENT
URL;VALUE=URI:https://www.bayareascience.org/calendar/index.php?com=detail&eID=32284
DTSTART:20220518T180000
DTEND:20220518T193000
SUMMARY:How to Make a Star 
DESCRIPTION:We come from the stars. What if we could touch them? In this talk on building stars\, telescopes\, and communities\, Dr. Nia Imara will present efforts to create the first 3D-printed stellar nurseries\,...\n______________________________\nThis Event Downloaded From a Helios Calendar Powered Site
LOCATION:UC Santa Cruz Silicon Valley Campus - 3175 Bowers Ave \, Santa Clara\, CA  95054
CATEGORIES:BayAreaScience.org Events
PRIORITY:0
TRANSP:TRANSPARENT
END:VEVENT
END:VCALENDAR