BEGIN:VCALENDAR
VERSION:2.0
METHOD:PUBLISH
CALSCALE:GREGORIAN
PRODID:-//Refresh Web Development//Helios Calendar//EN
X-FROM-URL:https://www.bayareascience.org/calendar/index.php?com=details&eID=32296
X-WR-RELCALID:BayAreaScience.org Java in the Real World - Livestream 20220601T183000
X-WR-TIMEZONE:America/New_York
X-WR-CALNAME:BayAreaScience.org
BEGIN:VEVENT
URL;VALUE=URI:https://www.bayareascience.org/calendar/index.php?com=detail&eID=32296
DTSTART:20220601T183000
DTEND:20220601T190000
SUMMARY:Java in the Real World - Livestream
DESCRIPTION:Java developers are broadening the scope of this popular language\, applying it to new kinds of projects in diverse industries.  Join two of our most popular Java instructors for a quick...\n______________________________\nThis Event Downloaded From a Helios Calendar Powered Site
LOCATION:UC Santa Cruz Silicon Valley Professional Ed. -  \, \, CA  
CATEGORIES:BayAreaScience.org Events
PRIORITY:0
TRANSP:TRANSPARENT
END:VEVENT
END:VCALENDAR