BEGIN:VCALENDAR
VERSION:2.0
METHOD:PUBLISH
CALSCALE:GREGORIAN
PRODID:-//Refresh Web Development//Helios Calendar//EN
X-FROM-URL:https://www.bayareascience.org/calendar/index.php?com=details&eID=32309
X-WR-RELCALID:BayAreaScience.org Wine, Kombucha, Vinegar - How to Ferment by the Herbal Oganoleptic Style with Emphasis on Mushrooms - Livestream 20220517T190000
X-WR-TIMEZONE:America/New_York
X-WR-CALNAME:BayAreaScience.org
BEGIN:VEVENT
URL;VALUE=URI:https://www.bayareascience.org/calendar/index.php?com=detail&eID=32309
DTSTART:20220517T190000
DTEND:20220517T210000
SUMMARY:Wine\, Kombucha\, Vinegar - How to Ferment by the Herbal Oganoleptic Style with Emphasis on Mushrooms - Livestream
DESCRIPTION:Speaker: Ken LitchfieldSee weblink for Zoom information\n______________________________\nThis Event Downloaded From a Helios Calendar Powered Site
LOCATION:Mycological Society of San Francisco -  \, \, CA  
CATEGORIES:BayAreaScience.org Events
PRIORITY:0
TRANSP:TRANSPARENT
END:VEVENT
END:VCALENDAR