BEGIN:VCALENDAR
VERSION:2.0
METHOD:PUBLISH
CALSCALE:GREGORIAN
PRODID:-//Refresh Web Development//Helios Calendar//EN
X-FROM-URL:https://www.bayareascience.org/calendar/index.php?com=details&eID=32316
X-WR-RELCALID:BayAreaScience.org Future of Work: Design Your 100 Year Life 20220517T173000
X-WR-TIMEZONE:America/New_York
X-WR-CALNAME:BayAreaScience.org
BEGIN:VEVENT
URL;VALUE=URI:https://www.bayareascience.org/calendar/index.php?com=detail&eID=32316
DTSTART:20220517T173000
DTEND:20220517T190000
SUMMARY:Future of Work: Design Your 100 Year Life
DESCRIPTION:Being born in a developed country today means a life expectancy of roughly 100 years. How does this outlook change how we plan and live our lives? What are the implications for us today? And is...\n______________________________\nThis Event Downloaded From a Helios Calendar Powered Site
LOCATION:swissnex San Francisco - The Embarcadero Pier 17\, Suite 800\, San Francisco\, CA  94111
CATEGORIES:BayAreaScience.org Events
PRIORITY:0
TRANSP:TRANSPARENT
END:VEVENT
END:VCALENDAR