BEGIN:VCALENDAR
VERSION:2.0
METHOD:PUBLISH
CALSCALE:GREGORIAN
PRODID:-//Refresh Web Development//Helios Calendar//EN
X-FROM-URL:https://www.bayareascience.org/calendar/index.php?com=details&eID=32329
X-WR-RELCALID:BayAreaScience.org Cocktails and Conservation: Oakland's Official Bird 20220928T180000
X-WR-TIMEZONE:America/New_York
X-WR-CALNAME:BayAreaScience.org
BEGIN:VEVENT
URL;VALUE=URI:https://www.bayareascience.org/calendar/index.php?com=detail&eID=32329
DTSTART:20220928T180000
DTEND:20220928T180000
SUMMARY:Cocktails and Conservation: Oakland's Official Bird
DESCRIPTION:It takes a flock of humans to save the Black-Crowned Night Heron - the official bird of Oakland! Join us to hear from Golden Gate Audubon\, International Bird Rescue\, and the Oakland Zoo Heron Rescue...\n______________________________\nThis Event Downloaded From a Helios Calendar Powered Site
LOCATION:Rocky's Market Brooklyn Basin - 288 9th Ave \, Oakland\, CA  94606
CATEGORIES:BayAreaScience.org Events
PRIORITY:0
TRANSP:TRANSPARENT
END:VEVENT
END:VCALENDAR