BEGIN:VCALENDAR
VERSION:2.0
METHOD:PUBLISH
CALSCALE:GREGORIAN
PRODID:-//Refresh Web Development//Helios Calendar//EN
X-FROM-URL:https://www.bayareascience.org/calendar/index.php?com=details&eID=32358
X-WR-RELCALID:BayAreaScience.org Nerd Nite SF #126: Hey Girl! Bingo + DNA Sequencing + Nuclear Energy - POSTPONED 20220615T190000
X-WR-TIMEZONE:America/New_York
X-WR-CALNAME:BayAreaScience.org
BEGIN:VEVENT
URL;VALUE=URI:https://www.bayareascience.org/calendar/index.php?com=detail&eID=32358
DTSTART:20220615T190000
DTEND:20220615T190000
SUMMARY:Nerd Nite SF #126: Hey Girl! Bingo + DNA Sequencing + Nuclear Energy - POSTPONED
DESCRIPTION:Join us for Nerd Nite SF\, the Pride month party edition!Weâ€™re very excited to announce that weâ€™ll be partnering with the bearded bingo babe herself\, Shelix\,...\n______________________________\nThis Event Downloaded From a Helios Calendar Powered Site
LOCATION:Rickshaw Stop - 155 Fell St. @ Van Ness \, San Francisco\, CA  94102
CATEGORIES:BayAreaScience.org Events
PRIORITY:0
TRANSP:TRANSPARENT
END:VEVENT
END:VCALENDAR