BEGIN:VCALENDAR
VERSION:2.0
METHOD:PUBLISH
CALSCALE:GREGORIAN
PRODID:-//Refresh Web Development//Helios Calendar//EN
X-FROM-URL:https://www.bayareascience.org/calendar/index.php?com=details&eID=32372
X-WR-RELCALID:BayAreaScience.org Science at Cal - Detecting Disinformation and Deep Fakes 20220813T110000
X-WR-TIMEZONE:America/New_York
X-WR-CALNAME:BayAreaScience.org
BEGIN:VEVENT
URL;VALUE=URI:https://www.bayareascience.org/calendar/index.php?com=detail&eID=32372
DTSTART:20220813T110000
DTEND:20220813T121500
SUMMARY:Science at Cal - Detecting Disinformation and Deep Fakes
DESCRIPTION:We are awash in disinformation consisting of lies\, conspiracies\, and general nonsense\, all with real-world implications ranging from human-rights violations to threats to our democracy and global...\n______________________________\nThis Event Downloaded From a Helios Calendar Powered Site
LOCATION:Valley Life Sciences Building - UC Berkeley Room 2050\, Berkeley\, CA  94720
CATEGORIES:BayAreaScience.org Events
PRIORITY:0
TRANSP:TRANSPARENT
END:VEVENT
END:VCALENDAR