BEGIN:VCALENDAR
VERSION:2.0
METHOD:PUBLISH
CALSCALE:GREGORIAN
PRODID:-//Refresh Web Development//Helios Calendar//EN
X-FROM-URL:https://www.bayareascience.org/calendar/index.php?com=details&eID=32430
X-WR-RELCALID:BayAreaScience.org Simulating the Universe on a Supercomputer - Livestream 20220705T190000
X-WR-TIMEZONE:America/New_York
X-WR-CALNAME:BayAreaScience.org
BEGIN:VEVENT
URL;VALUE=URI:https://www.bayareascience.org/calendar/index.php?com=detail&eID=32430
DTSTART:20220705T190000
DTEND:20220705T200000
SUMMARY:Simulating the Universe on a Supercomputer - Livestream
DESCRIPTION:Astronomers run some of...\n______________________________\nThis Event Downloaded From a Helios Calendar Powered Site
LOCATION:Hewlett Teaching Center - 370 Jane Stanford Way\, Room 201 Stanford University\, Stanford\, CA  94305
CATEGORIES:BayAreaScience.org Events
PRIORITY:0
TRANSP:TRANSPARENT
END:VEVENT
END:VCALENDAR