BEGIN:VCALENDAR
VERSION:2.0
METHOD:PUBLISH
CALSCALE:GREGORIAN
PRODID:-//Refresh Web Development//Helios Calendar//EN
X-FROM-URL:https://www.bayareascience.org/calendar/index.php?com=details&eID=32432
X-WR-RELCALID:BayAreaScience.org Celebrating 50 Years of Conservation at Don Edwards Wildlife Refuge 20220702T110000
X-WR-TIMEZONE:America/New_York
X-WR-CALNAME:BayAreaScience.org
BEGIN:VEVENT
URL;VALUE=URI:https://www.bayareascience.org/calendar/index.php?com=detail&eID=32432
DTSTART:20220702T110000
DTEND:20220702T140000
SUMMARY:Celebrating 50 Years of Conservation at Don Edwards Wildlife Refuge
DESCRIPTION:On June 30th\, 1972\, Don Edwards San Francisco Bay National Wildlife Refuge was officially established as part of the National Wildlife Refuge system and became America's first and largest urban...\n______________________________\nThis Event Downloaded From a Helios Calendar Powered Site
LOCATION:Don Edwards Wildlife Refuge  - 1 Marshlands Rd \, Fremont\, CA  94555
CATEGORIES:BayAreaScience.org Events
PRIORITY:0
TRANSP:TRANSPARENT
END:VEVENT
END:VCALENDAR