BEGIN:VCALENDAR
VERSION:2.0
METHOD:PUBLISH
CALSCALE:GREGORIAN
PRODID:-//Refresh Web Development//Helios Calendar//EN
X-FROM-URL:https://www.bayareascience.org/calendar/index.php?com=details&eID=32437
X-WR-RELCALID:BayAreaScience.org Climate Resiliency Walks: Point Pinole 20220730T100000
X-WR-TIMEZONE:America/New_York
X-WR-CALNAME:BayAreaScience.org
BEGIN:VEVENT
URL;VALUE=URI:https://www.bayareascience.org/calendar/index.php?com=detail&eID=32437
DTSTART:20220730T100000
DTEND:20220730T120000
SUMMARY:Climate Resiliency Walks: Point Pinole
DESCRIPTION:Explore the Dotson Family Marsh to experience what planning for climate change looks like.Â  Witness the importance of restoring tidal marshes and observe the birds and wildlife that call this...\n______________________________\nThis Event Downloaded From a Helios Calendar Powered Site
LOCATION:Point Pinole Regional Park - Goodrick Ave Dotson Family Marsh Staging Area\, Richmond Ave\, CA  94801
CATEGORIES:BayAreaScience.org Events
PRIORITY:0
TRANSP:TRANSPARENT
END:VEVENT
END:VCALENDAR