BEGIN:VCALENDAR
VERSION:2.0
METHOD:PUBLISH
CALSCALE:GREGORIAN
PRODID:-//Refresh Web Development//Helios Calendar//EN
X-FROM-URL:https://www.bayareascience.org/calendar/index.php?com=details&eID=32443
X-WR-RELCALID:BayAreaScience.org Hardcore Natural History - Collection Curiosities 20220707T180000
X-WR-TIMEZONE:America/New_York
X-WR-CALNAME:BayAreaScience.org
BEGIN:VEVENT
URL;VALUE=URI:https://www.bayareascience.org/calendar/index.php?com=detail&eID=32443
DTSTART:20220707T180000
DTEND:20220707T193000
SUMMARY:Hardcore Natural History - Collection Curiosities
DESCRIPTION:Community Museums have consistently shown themselves to be cornerstones of natural and cultural histories. These small but mighty...\n______________________________\nThis Event Downloaded From a Helios Calendar Powered Site
LOCATION:Pacific Grove Museum of Natural History -  \, \, CA  
CATEGORIES:BayAreaScience.org Events
PRIORITY:0
TRANSP:TRANSPARENT
END:VEVENT
END:VCALENDAR