BEGIN:VCALENDAR
VERSION:2.0
METHOD:PUBLISH
CALSCALE:GREGORIAN
PRODID:-//Refresh Web Development//Helios Calendar//EN
X-FROM-URL:https://www.bayareascience.org/calendar/index.php?com=details&eID=32454
X-WR-RELCALID:BayAreaScience.org Wonderfest: SETI Innovation - Livestream 20220707T200000
X-WR-TIMEZONE:America/New_York
X-WR-CALNAME:BayAreaScience.org
BEGIN:VEVENT
URL;VALUE=URI:https://www.bayareascience.org/calendar/index.php?com=detail&eID=32454
DTSTART:20220707T200000
DTEND:20220707T210000
SUMMARY:Wonderfest: SETI Innovation - Livestream
DESCRIPTION:Humans...\n______________________________\nThis Event Downloaded From a Helios Calendar Powered Site
LOCATION:Wonderfest -  \, \, CA  
CATEGORIES:BayAreaScience.org Events
PRIORITY:0
TRANSP:TRANSPARENT
END:VEVENT
END:VCALENDAR