BEGIN:VCALENDAR
VERSION:2.0
METHOD:PUBLISH
CALSCALE:GREGORIAN
PRODID:-//Refresh Web Development//Helios Calendar//EN
X-FROM-URL:https://www.bayareascience.org/calendar/index.php?com=details&eID=32456
X-WR-RELCALID:BayAreaScience.org  Birding while Disabled - Livestream 20220721T190000
X-WR-TIMEZONE:America/New_York
X-WR-CALNAME:BayAreaScience.org
BEGIN:VEVENT
URL;VALUE=URI:https://www.bayareascience.org/calendar/index.php?com=detail&eID=32456
DTSTART:20220721T190000
DTEND:20220721T190000
SUMMARY: Birding while Disabled - Livestream
DESCRIPTION:Bonnie Lewkowicz and Judith Smith will share their experiences as wheelchair-using birders and will be joined by Tiffany Taylor\, a birder who is blind. Hear what...\n______________________________\nThis Event Downloaded From a Helios Calendar Powered Site
LOCATION:Golden Gate Audubon Society -  \, \, CA  
CATEGORIES:BayAreaScience.org Events
PRIORITY:0
TRANSP:TRANSPARENT
END:VEVENT
END:VCALENDAR