BEGIN:VCALENDAR
VERSION:2.0
METHOD:PUBLISH
CALSCALE:GREGORIAN
PRODID:-//Refresh Web Development//Helios Calendar//EN
X-FROM-URL:https://www.bayareascience.org/calendar/index.php?com=details&eID=32457
X-WR-RELCALID:BayAreaScience.org  California Hummingbirds and More - Livestream 20220818T190000
X-WR-TIMEZONE:America/New_York
X-WR-CALNAME:BayAreaScience.org
BEGIN:VEVENT
URL;VALUE=URI:https://www.bayareascience.org/calendar/index.php?com=detail&eID=32457
DTSTART:20220818T190000
DTEND:20220818T190000
SUMMARY: California Hummingbirds and More - Livestream
DESCRIPTION:Although the focus of this talk is California hummingbirds\, weâ€™ll also stop in Arizona and Central and South America as we discuss the origin and taxonomy of these flying jewels\, their nesting...\n______________________________\nThis Event Downloaded From a Helios Calendar Powered Site
LOCATION:Golden Gate Audubon Society - David Brower Center Goldman Theater 2150 Alston Way\, Berkeley\, CA  94704
CATEGORIES:BayAreaScience.org Events
PRIORITY:0
TRANSP:TRANSPARENT
END:VEVENT
END:VCALENDAR