BEGIN:VCALENDAR
VERSION:2.0
METHOD:PUBLISH
CALSCALE:GREGORIAN
PRODID:-//Refresh Web Development//Helios Calendar//EN
X-FROM-URL:https://www.bayareascience.org/calendar/index.php?com=details&eID=32458
X-WR-RELCALID:BayAreaScience.org  Birds and Ohloneâ€™s Past, Present, and Future - Livestream 20220922T190000
X-WR-TIMEZONE:America/New_York
X-WR-CALNAME:BayAreaScience.org
BEGIN:VEVENT
URL;VALUE=URI:https://www.bayareascience.org/calendar/index.php?com=detail&eID=32458
DTSTART:20220922T190000
DTEND:20220922T190000
SUMMARY: Birds and Ohloneâ€™s Past\, Present\, and Future - Livestream
DESCRIPTION:Gregg Castro and Beverly R. Ortiz will share with you the significance of birds in the cultural\, material\, and spiritual lives of Ohlones past\, present\, and future. Theyâ€™ll also describe...\n______________________________\nThis Event Downloaded From a Helios Calendar Powered Site
LOCATION:Golden Gate Audubon Society -  \, \, CA  
CATEGORIES:BayAreaScience.org Events
PRIORITY:0
TRANSP:TRANSPARENT
END:VEVENT
END:VCALENDAR