BEGIN:VCALENDAR
VERSION:2.0
METHOD:PUBLISH
CALSCALE:GREGORIAN
PRODID:-//Refresh Web Development//Helios Calendar//EN
X-FROM-URL:https://www.bayareascience.org/calendar/index.php?com=details&eID=32462
X-WR-RELCALID:BayAreaScience.org Moving the Needle: How key interventions can increase diversity, equity, and inclusion in STEM 20220910T103000
X-WR-TIMEZONE:America/New_York
X-WR-CALNAME:BayAreaScience.org
BEGIN:VEVENT
URL;VALUE=URI:https://www.bayareascience.org/calendar/index.php?com=detail&eID=32462
DTSTART:20220910T103000
DTEND:20220910T120000
SUMMARY:Moving the Needle: How key interventions can increase diversity\, equity\, and inclusion in STEM
DESCRIPTION:Although African Americans make up approximately 13% of the US population\, they are severely underrepresented in advanced degrees awarded in STEM disciplines. Currently\, they hold ~2% of tenure/tenure...\n______________________________\nThis Event Downloaded From a Helios Calendar Powered Site
LOCATION:California Section American Chemical Society -  \, \, CA  
CATEGORIES:BayAreaScience.org Events
PRIORITY:0
TRANSP:TRANSPARENT
END:VEVENT
END:VCALENDAR