BEGIN:VCALENDAR
VERSION:2.0
METHOD:PUBLISH
CALSCALE:GREGORIAN
PRODID:-//Refresh Web Development//Helios Calendar//EN
X-FROM-URL:https://www.bayareascience.org/calendar/index.php?com=details&eID=32484
X-WR-RELCALID:BayAreaScience.org UC Berkeley Physics Colloquia - CANCELED 20220926T161500
X-WR-TIMEZONE:America/New_York
X-WR-CALNAME:BayAreaScience.org
BEGIN:VEVENT
URL;VALUE=URI:https://www.bayareascience.org/calendar/index.php?com=detail&eID=32484
DTSTART:20220926T161500
DTEND:20220926T171500
SUMMARY:UC Berkeley Physics Colloquia - CANCELED
DESCRIPTION:Speaker: TBASee weblink for Zoom information.Â  In person attendance TBD.\n______________________________\nThis Event Downloaded From a Helios Calendar Powered Site
LOCATION:UC Berkeley -  \, \, CA  
CATEGORIES:BayAreaScience.org Events
PRIORITY:0
TRANSP:TRANSPARENT
END:VEVENT
END:VCALENDAR