BEGIN:VCALENDAR
VERSION:2.0
METHOD:PUBLISH
CALSCALE:GREGORIAN
PRODID:-//Refresh Web Development//Helios Calendar//EN
X-FROM-URL:https://www.bayareascience.org/calendar/index.php?com=details&eID=32486
X-WR-RELCALID:BayAreaScience.org  Understanding the Nature of Matter with Polarized Targets 20221010T161500
X-WR-TIMEZONE:America/New_York
X-WR-CALNAME:BayAreaScience.org
BEGIN:VEVENT
URL;VALUE=URI:https://www.bayareascience.org/calendar/index.php?com=detail&eID=32486
DTSTART:20221010T161500
DTEND:20221010T171500
SUMMARY: Understanding the Nature of Matter with Polarized Targets
DESCRIPTION:Since the discovery of the proton in 1917\, physicists have been studying its properties: Asking questions about the internal structure and external phenomena of this basic piece of matter....\n______________________________\nThis Event Downloaded From a Helios Calendar Powered Site
LOCATION:Physics North - UC Berkeley Room 1\, Berkeley\, CA  94720
CATEGORIES:BayAreaScience.org Events
PRIORITY:0
TRANSP:TRANSPARENT
END:VEVENT
END:VCALENDAR