BEGIN:VCALENDAR
VERSION:2.0
METHOD:PUBLISH
CALSCALE:GREGORIAN
PRODID:-//Refresh Web Development//Helios Calendar//EN
X-FROM-URL:https://www.bayareascience.org/calendar/index.php?com=details&eID=32488
X-WR-RELCALID:BayAreaScience.org  Stars and star clusters in the distant Universe seen through Einsteinâ€™s Lens 20221031T161500
X-WR-TIMEZONE:America/New_York
X-WR-CALNAME:BayAreaScience.org
BEGIN:VEVENT
URL;VALUE=URI:https://www.bayareascience.org/calendar/index.php?com=detail&eID=32488
DTSTART:20221031T161500
DTEND:20221031T171500
SUMMARY: Stars and star clusters in the distant Universe seen through Einsteinâ€™s Lens
DESCRIPTION:Galaxy clusters are the most massive gravitational lenses Nature offers that really augment our observational capability to study celestial objects in the younger Universe using man-made...\n______________________________\nThis Event Downloaded From a Helios Calendar Powered Site
LOCATION:Physics North - UC Berkeley Room 1\, Berkeley\, CA  94720
CATEGORIES:BayAreaScience.org Events
PRIORITY:0
TRANSP:TRANSPARENT
END:VEVENT
END:VCALENDAR