BEGIN:VCALENDAR
VERSION:2.0
METHOD:PUBLISH
CALSCALE:GREGORIAN
PRODID:-//Refresh Web Development//Helios Calendar//EN
X-FROM-URL:https://www.bayareascience.org/calendar/index.php?com=details&eID=32490
X-WR-RELCALID:BayAreaScience.org  Narrowing the search for axion dark matter 20221114T161500
X-WR-TIMEZONE:America/New_York
X-WR-CALNAME:BayAreaScience.org
BEGIN:VEVENT
URL;VALUE=URI:https://www.bayareascience.org/calendar/index.php?com=detail&eID=32490
DTSTART:20221114T161500
DTEND:20221114T171500
SUMMARY: Narrowing the search for axion dark matter
DESCRIPTION:The quantum chromodynamics axion and axion-like particles are some of the most sought-after beyond the Standard Model particles at present because of their possible connections with the strong-CP...\n______________________________\nThis Event Downloaded From a Helios Calendar Powered Site
LOCATION:Physics North - UC Berkeley Room 1\, Berkeley\, CA  94720
CATEGORIES:BayAreaScience.org Events
PRIORITY:0
TRANSP:TRANSPARENT
END:VEVENT
END:VCALENDAR