BEGIN:VCALENDAR
VERSION:2.0
METHOD:PUBLISH
CALSCALE:GREGORIAN
PRODID:-//Refresh Web Development//Helios Calendar//EN
X-FROM-URL:https://www.bayareascience.org/calendar/index.php?com=details&eID=32517
X-WR-RELCALID:BayAreaScience.org Wonderfest: The Hidden World of Vibrations 20220726T190000
X-WR-TIMEZONE:America/New_York
X-WR-CALNAME:BayAreaScience.org
BEGIN:VEVENT
URL;VALUE=URI:https://www.bayareascience.org/calendar/index.php?com=detail&eID=32517
DTSTART:20220726T190000
DTEND:20220726T203000
SUMMARY:Wonderfest: The Hidden World of Vibrations
DESCRIPTION:As humans\, our appreciation of the natural world is tied to our senses - the sights\, sounds\, and smells we experience. Recent scientific research\, however\, has shown just how limited our viewpoint...\n______________________________\nThis Event Downloaded From a Helios Calendar Powered Site
LOCATION:Hopmonk Tavern - Session Room 224 Vintage Way\, Novato\, CA  94945
CATEGORIES:BayAreaScience.org Events
PRIORITY:0
TRANSP:TRANSPARENT
END:VEVENT
END:VCALENDAR