BEGIN:VCALENDAR
VERSION:2.0
METHOD:PUBLISH
CALSCALE:GREGORIAN
PRODID:-//Refresh Web Development//Helios Calendar//EN
X-FROM-URL:https://www.bayareascience.org/calendar/index.php?com=details&eID=32526
X-WR-RELCALID:BayAreaScience.org Mapping the World from Satellites - Helping us understand Global Food & Water Security in the 21st Century - Livestream 20220728T180000
X-WR-TIMEZONE:America/New_York
X-WR-CALNAME:BayAreaScience.org
BEGIN:VEVENT
URL;VALUE=URI:https://www.bayareascience.org/calendar/index.php?com=detail&eID=32526
DTSTART:20220728T180000
DTEND:20220728T191500
SUMMARY:Mapping the World from Satellites - Helping us understand Global Food & Water Security in the 21st Century - Livestream
DESCRIPTION:These non-technical lectures are free and are intended for a general audience that may not be familiar with USGS science.Speaker: USGS Research Geographer Prasad...\n______________________________\nThis Event Downloaded From a Helios Calendar Powered Site
LOCATION:US Geological Survey Public Lecture Series -  \, \, CA  
CATEGORIES:BayAreaScience.org Events
PRIORITY:0
TRANSP:TRANSPARENT
END:VEVENT
END:VCALENDAR