BEGIN:VCALENDAR
VERSION:2.0
METHOD:PUBLISH
CALSCALE:GREGORIAN
PRODID:-//Refresh Web Development//Helios Calendar//EN
X-FROM-URL:https://www.bayareascience.org/calendar/index.php?com=details&eID=32532
X-WR-RELCALID:BayAreaScience.org Space Telescope Snapshots 20220820T130000
X-WR-TIMEZONE:America/New_York
X-WR-CALNAME:BayAreaScience.org
BEGIN:VEVENT
URL;VALUE=URI:https://www.bayareascience.org/calendar/index.php?com=detail&eID=32532
DTSTART:20220820T130000
DTEND:20220820T140000
SUMMARY:Space Telescope Snapshots
DESCRIPTION:NASAâ€™s James Webb Space Telescope is more advanced than any telescopeâ€¦ever. As the first images come back\, we begin shedding light on some of the mysteries...\n______________________________\nThis Event Downloaded From a Helios Calendar Powered Site
LOCATION:Chabot Space and Science Center - 10000 Skyline Blvd \, Oakland\, CA USA 94619
CATEGORIES:BayAreaScience.org Events
PRIORITY:0
TRANSP:TRANSPARENT
END:VEVENT
END:VCALENDAR