BEGIN:VCALENDAR
VERSION:2.0
METHOD:PUBLISH
CALSCALE:GREGORIAN
PRODID:-//Refresh Web Development//Helios Calendar//EN
X-FROM-URL:https://www.bayareascience.org/calendar/index.php?com=details&eID=32535
X-WR-RELCALID:BayAreaScience.org SLAC Community Day - Canceled 20220806T160000
X-WR-TIMEZONE:America/New_York
X-WR-CALNAME:BayAreaScience.org
BEGIN:VEVENT
URL;VALUE=URI:https://www.bayareascience.org/calendar/index.php?com=detail&eID=32535
DTSTART:20220806T160000
DTEND:20220806T190000
SUMMARY:SLAC Community Day - Canceled
DESCRIPTION:SLAC hosts an open house.Â  See weblink for detailsBuilding 053\n______________________________\nThis Event Downloaded From a Helios Calendar Powered Site
LOCATION:SLAC National Accelerator Laboratory - 2575 Sand Hill Road \, Menlo Park\, CA  94025
CATEGORIES:BayAreaScience.org Events
PRIORITY:0
TRANSP:TRANSPARENT
END:VEVENT
END:VCALENDAR