BEGIN:VCALENDAR
VERSION:2.0
METHOD:PUBLISH
CALSCALE:GREGORIAN
PRODID:-//Refresh Web Development//Helios Calendar//EN
X-FROM-URL:https://www.bayareascience.org/calendar/index.php?com=details&eID=32540
X-WR-RELCALID:BayAreaScience.org How Can Silicon Valley Protect the Most Vulnerable? 20220816T170000
X-WR-TIMEZONE:America/New_York
X-WR-CALNAME:BayAreaScience.org
BEGIN:VEVENT
URL;VALUE=URI:https://www.bayareascience.org/calendar/index.php?com=detail&eID=32540
DTSTART:20220816T170000
DTEND:20220816T193000
SUMMARY:How Can Silicon Valley Protect the Most Vulnerable?
DESCRIPTION:Join us for a panel discussion and networking session on how Silicon Valley institutions can help the most vulnerable protect themselves in cyberspace.Small organizations such as non-governmental...\n______________________________\nThis Event Downloaded From a Helios Calendar Powered Site
LOCATION:swissnex San Francisco - The Embarcadero Pier 17\, Suite 800\, San Francisco\, CA  94111
CATEGORIES:BayAreaScience.org Events
PRIORITY:0
TRANSP:TRANSPARENT
END:VEVENT
END:VCALENDAR