BEGIN:VCALENDAR
VERSION:2.0
METHOD:PUBLISH
CALSCALE:GREGORIAN
PRODID:-//Refresh Web Development//Helios Calendar//EN
X-FROM-URL:https://www.bayareascience.org/calendar/index.php?com=details&eID=32543
X-WR-RELCALID:BayAreaScience.org The Worldâ€™s Largest International Dark Sky Reserve - Livestream 20220817T190000
X-WR-TIMEZONE:America/New_York
X-WR-CALNAME:BayAreaScience.org
BEGIN:VEVENT
URL;VALUE=URI:https://www.bayareascience.org/calendar/index.php?com=detail&eID=32543
DTSTART:20220817T190000
DTEND:20220817T190000
SUMMARY:The Worldâ€™s Largest International Dark Sky Reserve - Livestream
DESCRIPTION:Over the past 100+ years\, the world's night skies have been rapidly vanishing due to the spread of light pollution. Thankfully\, easy solutions to light pollution exist. In a remote region of West...\n______________________________\nThis Event Downloaded From a Helios Calendar Powered Site
LOCATION:San Francisco Amateur Astronomers -  \, \, CA  
CATEGORIES:BayAreaScience.org Events
PRIORITY:0
TRANSP:TRANSPARENT
END:VEVENT
END:VCALENDAR