BEGIN:VCALENDAR
VERSION:2.0
METHOD:PUBLISH
CALSCALE:GREGORIAN
PRODID:-//Refresh Web Development//Helios Calendar//EN
X-FROM-URL:https://www.bayareascience.org/calendar/index.php?com=details&eID=32544
X-WR-RELCALID:BayAreaScience.org  First Dark Matter Search Results from the LUX-ZEPLIN (LZ) Experiment - Livestream 20220801T153000
X-WR-TIMEZONE:America/New_York
X-WR-CALNAME:BayAreaScience.org
BEGIN:VEVENT
URL;VALUE=URI:https://www.bayareascience.org/calendar/index.php?com=detail&eID=32544
DTSTART:20220801T153000
DTEND:20220801T163000
SUMMARY: First Dark Matter Search Results from the LUX-ZEPLIN (LZ) Experiment - Livestream
DESCRIPTION:The nature and origin of dark matter are among the most compelling mysteries of contemporary science. There is strong evidence for dark matter from its role in shaping the galaxies and galaxy clusters...\n______________________________\nThis Event Downloaded From a Helios Calendar Powered Site
LOCATION:SLAC Colloquium -  \, \, CA  
CATEGORIES:BayAreaScience.org Events
PRIORITY:0
TRANSP:TRANSPARENT
END:VEVENT
END:VCALENDAR