BEGIN:VCALENDAR
VERSION:2.0
METHOD:PUBLISH
CALSCALE:GREGORIAN
PRODID:-//Refresh Web Development//Helios Calendar//EN
X-FROM-URL:https://www.bayareascience.org/calendar/index.php?com=details&eID=32552
X-WR-RELCALID:BayAreaScience.org Dirt: The Bio-Design Work of Mary Lempres 20220813T130000
X-WR-TIMEZONE:America/New_York
X-WR-CALNAME:BayAreaScience.org
BEGIN:VEVENT
URL;VALUE=URI:https://www.bayareascience.org/calendar/index.php?com=detail&eID=32552
DTSTART:20220813T130000
DTEND:20220813T160000
SUMMARY:Dirt: The Bio-Design Work of Mary Lempres
DESCRIPTION:Please join us for an exhibition of the work of Designer-In-Residence Mary Lempres on Saturday August 13 from 1-4 pm in the Petrichor Gallery at Marinship Studios in Sausalito.By growing...\n______________________________\nThis Event Downloaded From a Helios Calendar Powered Site
LOCATION:Marinship Studios - 265 Gate 5 Road \, Sausalito\, CA  94965
CATEGORIES:BayAreaScience.org Events
PRIORITY:0
TRANSP:TRANSPARENT
END:VEVENT
END:VCALENDAR