BEGIN:VCALENDAR
VERSION:2.0
METHOD:PUBLISH
CALSCALE:GREGORIAN
PRODID:-//Refresh Web Development//Helios Calendar//EN
X-FROM-URL:https://www.bayareascience.org/calendar/index.php?com=details&eID=32555
X-WR-RELCALID:BayAreaScience.org Jet Propulsion Laboratoryâ€™s History of Robotic Space Exploration - Livestream 20220813T190000
X-WR-TIMEZONE:America/New_York
X-WR-CALNAME:BayAreaScience.org
BEGIN:VEVENT
URL;VALUE=URI:https://www.bayareascience.org/calendar/index.php?com=detail&eID=32555
DTSTART:20220813T190000
DTEND:20220813T203000
SUMMARY:Jet Propulsion Laboratoryâ€™s History of Robotic Space Exploration - Livestream
DESCRIPTION:In this lecture\, weâ€™ll trace the history of the Jet Propulsion Laboratory from the time it was started by amateur and academic rocket enthusiasts to becoming a research center for the US...\n______________________________\nThis Event Downloaded From a Helios Calendar Powered Site
LOCATION:East Bay Astronomical Society -  \, \, CA  
CATEGORIES:BayAreaScience.org Events
PRIORITY:0
TRANSP:TRANSPARENT
END:VEVENT
END:VCALENDAR