BEGIN:VCALENDAR
VERSION:2.0
METHOD:PUBLISH
CALSCALE:GREGORIAN
PRODID:-//Refresh Web Development//Helios Calendar//EN
X-FROM-URL:https://www.bayareascience.org/calendar/index.php?com=details&eID=32556
X-WR-RELCALID:BayAreaScience.org The National Geologic Map Database: A wealth of geologic information at your fingertips! - Livestream 20220825T180000
X-WR-TIMEZONE:America/New_York
X-WR-CALNAME:BayAreaScience.org
BEGIN:VEVENT
URL;VALUE=URI:https://www.bayareascience.org/calendar/index.php?com=detail&eID=32556
DTSTART:20220825T180000
DTEND:20220825T190000
SUMMARY:The National Geologic Map Database: A wealth of geologic information at your fingertips! - Livestream
DESCRIPTION:The USGS and State Geological Surveys have been making geologic maps since the 1800s - this data (and more) can be found in the National Geologic Map Database (NGMDB).Â Geologic...\n______________________________\nThis Event Downloaded From a Helios Calendar Powered Site
LOCATION:US Geological Survey Public Lecture Series -  \, \, CA  
CATEGORIES:BayAreaScience.org Events
PRIORITY:0
TRANSP:TRANSPARENT
END:VEVENT
END:VCALENDAR