BEGIN:VCALENDAR
VERSION:2.0
METHOD:PUBLISH
CALSCALE:GREGORIAN
PRODID:-//Refresh Web Development//Helios Calendar//EN
X-FROM-URL:https://www.bayareascience.org/calendar/index.php?com=details&eID=32557
X-WR-RELCALID:BayAreaScience.org In Conversation: Heather Dewey-Hagborg and Annalee Newitz 20220827T150000
X-WR-TIMEZONE:America/New_York
X-WR-CALNAME:BayAreaScience.org
BEGIN:VEVENT
URL;VALUE=URI:https://www.bayareascience.org/calendar/index.php?com=detail&eID=32557
DTSTART:20220827T150000
DTEND:20220827T160000
SUMMARY:In Conversation: Heather Dewey-Hagborg and Annalee Newitz
DESCRIPTION:Join artist and biohacker Heather Dewey-Hagborg and science fact and fiction writer Annalee Newitz for a lively conversation on the generative intersection of art and science. This event is free...\n______________________________\nThis Event Downloaded From a Helios Calendar Powered Site
LOCATION:McEvoy Foundation for the Arts - 1150 25th Street\, Building B \, San Francisco\, CA  94107
CATEGORIES:BayAreaScience.org Events
PRIORITY:0
TRANSP:TRANSPARENT
END:VEVENT
END:VCALENDAR